BEGIN:VCALENDAR
VERSION:2.0
PRODID:-//MemberWise - ECPv6.15.18//NONSGML v1.0//EN
CALSCALE:GREGORIAN
METHOD:PUBLISH
X-ORIGINAL-URL:https://memberwise.org.uk
X-WR-CALDESC:Events for MemberWise
REFRESH-INTERVAL;VALUE=DURATION:PT1H
X-Robots-Tag:noindex
X-PUBLISHED-TTL:PT1H
BEGIN:VTIMEZONE
TZID:Europe/London
BEGIN:DAYLIGHT
TZOFFSETFROM:+0000
TZOFFSETTO:+0100
TZNAME:BST
DTSTART:20250330T010000
END:DAYLIGHT
BEGIN:STANDARD
TZOFFSETFROM:+0100
TZOFFSETTO:+0000
TZNAME:GMT
DTSTART:20251026T010000
END:STANDARD
BEGIN:DAYLIGHT
TZOFFSETFROM:+0000
TZOFFSETTO:+0100
TZNAME:BST
DTSTART:20260329T010000
END:DAYLIGHT
BEGIN:STANDARD
TZOFFSETFROM:+0100
TZOFFSETTO:+0000
TZNAME:GMT
DTSTART:20261025T010000
END:STANDARD
BEGIN:DAYLIGHT
TZOFFSETFROM:+0000
TZOFFSETTO:+0100
TZNAME:BST
DTSTART:20270328T010000
END:DAYLIGHT
BEGIN:STANDARD
TZOFFSETFROM:+0100
TZOFFSETTO:+0000
TZNAME:GMT
DTSTART:20271031T010000
END:STANDARD
END:VTIMEZONE
BEGIN:VEVENT
DTSTART;TZID=Europe/London:20260611T083000
DTEND;TZID=Europe/London:20260611T160000
DTSTAMP:20260419T222617
CREATED:20251028T222753Z
LAST-MODIFIED:20260319T100637Z
UID:10000130-1781166600-1781193600@memberwise.org.uk
SUMMARY:Membership Solutions Day
DESCRIPTION:Data-driven Decisions: Turning Data Insight into Action for Growth\, Retention and Engagement \nRegister
URL:https://memberwise.org.uk/event/membership-solutions-day/
LOCATION:Novotel London West Hotel\, Hammersmith International Ctre\, 1 Shortlands\, Hammersmith\, London\, London\, W6 8DR\, United Kingdom
CATEGORIES:National Conference
ATTACH;FMTTYPE=image/png:https://memberwise.org.uk/wp-content/uploads/2025/10/Generic-Marketing-Image.png
END:VEVENT
END:VCALENDAR