BEGIN:VCALENDAR
VERSION:2.0
PRODID:-//MemberWise - ECPv6.15.18//NONSGML v1.0//EN
CALSCALE:GREGORIAN
METHOD:PUBLISH
X-ORIGINAL-URL:https://memberwise.org.uk
X-WR-CALDESC:Events for MemberWise
REFRESH-INTERVAL;VALUE=DURATION:PT1H
X-Robots-Tag:noindex
X-PUBLISHED-TTL:PT1H
BEGIN:VTIMEZONE
TZID:Europe/London
BEGIN:DAYLIGHT
TZOFFSETFROM:+0000
TZOFFSETTO:+0100
TZNAME:BST
DTSTART:20250330T010000
END:DAYLIGHT
BEGIN:STANDARD
TZOFFSETFROM:+0100
TZOFFSETTO:+0000
TZNAME:GMT
DTSTART:20251026T010000
END:STANDARD
BEGIN:DAYLIGHT
TZOFFSETFROM:+0000
TZOFFSETTO:+0100
TZNAME:BST
DTSTART:20260329T010000
END:DAYLIGHT
BEGIN:STANDARD
TZOFFSETFROM:+0100
TZOFFSETTO:+0000
TZNAME:GMT
DTSTART:20261025T010000
END:STANDARD
BEGIN:DAYLIGHT
TZOFFSETFROM:+0000
TZOFFSETTO:+0100
TZNAME:BST
DTSTART:20270328T010000
END:DAYLIGHT
BEGIN:STANDARD
TZOFFSETFROM:+0100
TZOFFSETTO:+0000
TZNAME:GMT
DTSTART:20271031T010000
END:STANDARD
END:VTIMEZONE
BEGIN:VEVENT
DTSTART;TZID=Europe/London:20261119T083000
DTEND;TZID=Europe/London:20261119T183000
DTSTAMP:20260420T014003
CREATED:20240503T141403Z
LAST-MODIFIED:20251215T193109Z
UID:10000090-1795077000-1795113000@memberwise.org.uk
SUMMARY:Membership Excellence 2026 (#MX2026) - Book your place today!
DESCRIPTION:Membership Excellence 2026 (#MX2026) is the Membership and Association Sector’s national membership focused national conference and exhibition. \nThe conference & exhibition will take place on Thursday 19th November 2026 at the Novotel London West (Hammersmith) and will attract circa 700 membership/association professional delegates and 50+ Official Stakeholder Organisations (including Official Partners and Exhibitors). \nOur conference website will launch in the Summer\, however you can express an interest today (and gain access to Priority Booking without obligation). \nVisit the Membership Excellence (2026) website from the Summer to: \n– View the full programme (including educational learning objectives)\n– Establish this year’s membership focused key themes/topics\n– Meet our expert Membership Professional Speakers\n– Explore our membership/digital solutions trade exhibition\n– Book your place(es) \nRegister
URL:https://memberwise.org.uk/event/membership-excellence-2026-memx2025-save-the-date/
LOCATION:Novotel London West\, Hammersmith International Ctre 1\, London\, W6 8DR\, United Kingdom
CATEGORIES:National Conference
ATTACH;FMTTYPE=image/png:https://memberwise.org.uk/wp-content/uploads/2024/05/MX.png
ORGANIZER;CN="MemberWise Network":MAILTO:events@memberwise.org.uk
END:VEVENT
END:VCALENDAR